BEGIN:VCALENDAR
VERSION:2.0
PRODID:-//Summit School - ECPv6.15.20//NONSGML v1.0//EN
CALSCALE:GREGORIAN
METHOD:PUBLISH
X-WR-CALNAME:Summit School
X-ORIGINAL-URL:https://summitschoolaz.org
X-WR-CALDESC:Events for Summit School
REFRESH-INTERVAL;VALUE=DURATION:PT1H
X-Robots-Tag:noindex
X-PUBLISHED-TTL:PT1H
BEGIN:VTIMEZONE
TZID:America/Phoenix
BEGIN:STANDARD
TZOFFSETFROM:-0700
TZOFFSETTO:-0700
TZNAME:MST
DTSTART:20190101T000000
END:STANDARD
END:VTIMEZONE
BEGIN:VEVENT
DTSTART;VALUE=DATE:20200525
DTEND;VALUE=DATE:20200526
DTSTAMP:20260420T003603
CREATED:20190217T232544Z
LAST-MODIFIED:20200525T182730Z
UID:40537-1590364800-1590451199@summitschoolaz.org
SUMMARY:Memorial Day (Holiday) - Office Closed
DESCRIPTION:
URL:https://summitschoolaz.org/event/memorial-day-holiday-office-closed-2/
CATEGORIES:Activities
END:VEVENT
BEGIN:VEVENT
DTSTART;VALUE=DATE:20200527
DTEND;VALUE=DATE:20200528
DTSTAMP:20260420T003603
CREATED:20190217T232544Z
LAST-MODIFIED:20200527T182552Z
UID:40538-1590537600-1590623999@summitschoolaz.org
SUMMARY:Last Day for Teachers
DESCRIPTION:
URL:https://summitschoolaz.org/event/last-day-for-teachers-2/
CATEGORIES:Activities
END:VEVENT
END:VCALENDAR