BEGIN:VCALENDAR
VERSION:2.0
PRODID:-//Summit School - ECPv6.15.20//NONSGML v1.0//EN
CALSCALE:GREGORIAN
METHOD:PUBLISH
X-WR-CALNAME:Summit School
X-ORIGINAL-URL:https://summitschoolaz.org
X-WR-CALDESC:Events for Summit School
REFRESH-INTERVAL;VALUE=DURATION:PT1H
X-Robots-Tag:noindex
X-PUBLISHED-TTL:PT1H
BEGIN:VTIMEZONE
TZID:America/Phoenix
BEGIN:STANDARD
TZOFFSETFROM:-0700
TZOFFSETTO:-0700
TZNAME:MST
DTSTART:20190101T000000
END:STANDARD
END:VTIMEZONE
BEGIN:VEVENT
DTSTART;VALUE=DATE:20200330
DTEND;VALUE=DATE:20200402
DTSTAMP:20260419T224632
CREATED:20200222T191152Z
LAST-MODIFIED:20200401T202557Z
UID:46448-1585526400-1585785599@summitschoolaz.org
SUMMARY:CREATE US Open Robotics Tournament in Council Bluffs\, IA
DESCRIPTION:
URL:https://summitschoolaz.org/event/create-us-open-robotics-tournament-in-council-bluffs-ia/
LOCATION:Council Bluffs\, IA\, USA\, United States
CATEGORIES:Robotics
END:VEVENT
BEGIN:VEVENT
DTSTART;VALUE=DATE:20200330
DTEND;VALUE=DATE:20200402
DTSTAMP:20260419T224632
CREATED:20200222T191153Z
LAST-MODIFIED:20200222T191153Z
UID:46449-1585526400-1585785599@summitschoolaz.org
SUMMARY:CREATE US Open Robotics Tournament in Council Bluffs\, IA
DESCRIPTION:
URL:https://summitschoolaz.org/event/create-us-open-robotics-tournament-in-council-bluffs-ia-2/
LOCATION:Council Bluffs\, IA\, USA\, United States
CATEGORIES:Robotics
END:VEVENT
BEGIN:VEVENT
DTSTART;VALUE=DATE:20200425
DTEND;VALUE=DATE:20200426
DTSTAMP:20260419T224632
CREATED:20200331T202725Z
LAST-MODIFIED:20200425T215708Z
UID:46763-1587772800-1587859199@summitschoolaz.org
SUMMARY:VEX Robotics Virtual World Celebration
DESCRIPTION:Join the REC Foundation and VEX Robotics on Saturday\, April 25 for a VEX Worlds Celebration to recognize the accomplishments of all teams and to see the future of competition robotics technology in a new product announcement. Don’t miss the 2020/2021 VEX IQ Challenge and VEX Robotics Competition Games unveiled during this virtual celebration!Stay tuned for more information and details in the coming weeks.
URL:https://summitschoolaz.org/event/vex-robotics-virtual-world-celebration/
CATEGORIES:Robotics
END:VEVENT
BEGIN:VEVENT
DTSTART;VALUE=DATE:20200425
DTEND;VALUE=DATE:20200426
DTSTAMP:20260419T224632
CREATED:20200331T202726Z
LAST-MODIFIED:20200331T202726Z
UID:46764-1587772800-1587859199@summitschoolaz.org
SUMMARY:VEX Robotics Virtual World Celebration
DESCRIPTION:Join the REC Foundation and VEX Robotics on Saturday\, April 25 for a VEX Worlds Celebration to recognize the accomplishments of all teams and to see the future of competition robotics technology in a new product announcement. Don’t miss the 2020/2021 VEX IQ Challenge and VEX Robotics Competition Games unveiled during this virtual celebration!Stay tuned for more information and details in the coming weeks.
URL:https://summitschoolaz.org/event/vex-robotics-virtual-world-celebration-2/
CATEGORIES:Robotics
END:VEVENT
BEGIN:VEVENT
DTSTART;TZID=America/Phoenix:20200425T093000
DTEND;TZID=America/Phoenix:20200425T110000
DTSTAMP:20260419T224632
CREATED:20200419T212618Z
LAST-MODIFIED:20200424T214409Z
UID:46901-1587807000-1587812400@summitschoolaz.org
SUMMARY:VIQC VEX Robotics Virtual World Celebration
DESCRIPTION:Join the REC Foundation and VEX Robotics on Saturday\, April 25 on the VEX Robotics YouTube channel for a VEX Worlds Celebration to recognize the accomplishments of all teams and to see the future of competition robotics technology in a new product announcement. VRC at 10 AM CST and VEXIQ Challenge at 11:30 AM CST. Don’t miss the 2020/2021 VEX IQ Challenge and VEX Robotics Competition Games unveiled during this virtual celebration!\nLink: https://www.roboticseducation.org/vex-robotics-virtual-world-celebration/
URL:https://summitschoolaz.org/event/viqc-vex-robotics-virtual-world-celebration/
LOCATION:https://www.youtube.com/user/vexroboticstv\,
CATEGORIES:Robotics
END:VEVENT
END:VCALENDAR