BEGIN:VCALENDAR
VERSION:2.0
PRODID:-//Summit School - ECPv6.15.20//NONSGML v1.0//EN
CALSCALE:GREGORIAN
METHOD:PUBLISH
X-ORIGINAL-URL:https://summitschoolaz.org
X-WR-CALDESC:Events for Summit School
REFRESH-INTERVAL;VALUE=DURATION:PT1H
X-Robots-Tag:noindex
X-PUBLISHED-TTL:PT1H
BEGIN:VTIMEZONE
TZID:America/Phoenix
BEGIN:STANDARD
TZOFFSETFROM:-0700
TZOFFSETTO:-0700
TZNAME:MST
DTSTART:20190101T000000
END:STANDARD
END:VTIMEZONE
BEGIN:VEVENT
DTSTART;VALUE=DATE:20200302
DTEND;VALUE=DATE:20200303
DTSTAMP:20260422T103210
CREATED:20190805T193344Z
LAST-MODIFIED:20200302T231344Z
UID:44237-1583107200-1583193599@summitschoolaz.org
SUMMARY:Sabrecat Spirit Week
DESCRIPTION:
URL:https://summitschoolaz.org/event/sabrecat-spirit-week-180/
CATEGORIES:Activities
END:VEVENT
BEGIN:VEVENT
DTSTART;VALUE=DATE:20200303
DTEND;VALUE=DATE:20200304
DTSTAMP:20260422T103210
CREATED:20190805T193344Z
LAST-MODIFIED:20200303T231112Z
UID:44238-1583193600-1583279999@summitschoolaz.org
SUMMARY:Sabrecat Spirit Week
DESCRIPTION:
URL:https://summitschoolaz.org/event/sabrecat-spirit-week-181/
CATEGORIES:Activities
END:VEVENT
BEGIN:VEVENT
DTSTART;TZID=America/Phoenix:20200303T090000
DTEND;TZID=America/Phoenix:20200303T124500
DTSTAMP:20260422T103210
CREATED:20200130T032546Z
LAST-MODIFIED:20200303T041217Z
UID:46267-1583226000-1583239500@summitschoolaz.org
SUMMARY:PS 215 Field Trip – Phoenix Zoo (lunch on field trip)
DESCRIPTION:
URL:https://summitschoolaz.org/event/ps-215-field-trip-phoenix-zoo-lunch-on-field-trip/
LOCATION:Phoenix Zoo\, 455 N Galvin Pkwy\, Phoenix\, AZ 85008\, USA\, 301 N Galvin Pkwy\, United States
CATEGORIES:Field Trips
END:VEVENT
BEGIN:VEVENT
DTSTART;VALUE=DATE:20200304
DTEND;VALUE=DATE:20200305
DTSTAMP:20260422T103210
CREATED:20190805T193345Z
LAST-MODIFIED:20200304T231029Z
UID:44239-1583280000-1583366399@summitschoolaz.org
SUMMARY:Sabrecat Spirit Week
DESCRIPTION:
URL:https://summitschoolaz.org/event/sabrecat-spirit-week-182/
CATEGORIES:Activities
END:VEVENT
BEGIN:VEVENT
DTSTART;TZID=America/Phoenix:20200304T094500
DTEND;TZID=America/Phoenix:20200304T120000
DTSTAMP:20260422T103210
CREATED:20200211T034029Z
LAST-MODIFIED:20200304T041027Z
UID:46370-1583315100-1583323200@summitschoolaz.org
SUMMARY:PS 212 Field Trip – Bowlero (lunch on field trip)
DESCRIPTION:
URL:https://summitschoolaz.org/event/ps-212-field-trip-bowlero-lunch-on-field-trip/
LOCATION:Bowlero Kyrene\, 6225 W Chandler Blvd\, Chandler\, AZ 85226\, USA\, 2 N Kyrene Rd\, United States
CATEGORIES:Field Trips
END:VEVENT
BEGIN:VEVENT
DTSTART;VALUE=DATE:20200305
DTEND;VALUE=DATE:20200306
DTSTAMP:20260422T103210
CREATED:20190805T193346Z
LAST-MODIFIED:20200305T231031Z
UID:44240-1583366400-1583452799@summitschoolaz.org
SUMMARY:Sabrecat Spirit Week
DESCRIPTION:
URL:https://summitschoolaz.org/event/sabrecat-spirit-week-183/
CATEGORIES:Activities
END:VEVENT
BEGIN:VEVENT
DTSTART;TZID=America/Phoenix:20200305T063000
DTEND;TZID=America/Phoenix:20200305T183000
DTSTAMP:20260422T103210
CREATED:20191022T231302Z
LAST-MODIFIED:20200305T041026Z
UID:45209-1583389800-1583433000@summitschoolaz.org
SUMMARY:3rd Grade Field Trip – Arizona-Sonora Desert Museum & Tumacácori National Park (lunch on field trip)
DESCRIPTION:
URL:https://summitschoolaz.org/event/3rd-grade-field-trip-tumacacori-national-park-tubac-historic-state-park-lunch-on-field-trip/
LOCATION:Arizona-Sonora Desert Museum\, 2021 N Kinney Rd\, Tucson\, AZ 85743\, USA\, 2119 N Kinney Rd\, United States
CATEGORIES:Field Trips
END:VEVENT
BEGIN:VEVENT
DTSTART;TZID=America/Phoenix:20200305T090000
DTEND;TZID=America/Phoenix:20200305T110000
DTSTAMP:20260422T103210
CREATED:20200117T224436Z
LAST-MODIFIED:20200304T231029Z
UID:46164-1583398800-1583406000@summitschoolaz.org
SUMMARY:Toddler Discoveries - Spring Session
DESCRIPTION:
URL:https://summitschoolaz.org/event/toddler-discoveries-spring-session-6/
CATEGORIES:Activities
END:VEVENT
BEGIN:VEVENT
DTSTART;TZID=America/Phoenix:20200305T140000
DTEND;TZID=America/Phoenix:20200305T150000
DTSTAMP:20260422T103210
CREATED:20190819T203228Z
LAST-MODIFIED:20200304T231029Z
UID:44523-1583416800-1583420400@summitschoolaz.org
SUMMARY:notMYkid Student Presentation: Substance Abuse (6th-8th)
DESCRIPTION:2019-2020 notMYkid student presentation dates. \nFriday\, September 27 2-3pm in the MPR: Internet Safety \nFriday\, November 15 2-3pm in the MPR: Bullying \nFriday\, February 7 2-3pm in the MS Classroom: Substance Abuse* \nFriday\, April 3 2-3pm in the MPR: Depression/Self-harm/Suicide \n*We have rescheduled the middle school substanceabuse speaker to Thursday\, March 5 at 2pm.
URL:https://summitschoolaz.org/event/notmykid-student-presentation-substance-abuse-6th-8th/
LOCATION:MPR
CATEGORIES:Activities
END:VEVENT
BEGIN:VEVENT
DTSTART;TZID=America/Phoenix:20200305T170000
DTEND;TZID=America/Phoenix:20200305T180000
DTSTAMP:20260422T103210
CREATED:20190805T193347Z
LAST-MODIFIED:20200305T231031Z
UID:44242-1583427600-1583431200@summitschoolaz.org
SUMMARY:notMYkid Parent Presentation: Substance Abuse
DESCRIPTION:
URL:https://summitschoolaz.org/event/notmykid-parent-presentation-internet-safety/
LOCATION:IDEA Lab
CATEGORIES:Activities
END:VEVENT
BEGIN:VEVENT
DTSTART;VALUE=DATE:20200306
DTEND;VALUE=DATE:20200307
DTSTAMP:20260422T103210
CREATED:20190217T232532Z
LAST-MODIFIED:20200306T231047Z
UID:40527-1583452800-1583539199@summitschoolaz.org
SUMMARY:End of 3rd Quarter
DESCRIPTION:
URL:https://summitschoolaz.org/event/end-of-3rd-quarter-79/
CATEGORIES:Activities
END:VEVENT
BEGIN:VEVENT
DTSTART;VALUE=DATE:20200306
DTEND;VALUE=DATE:20200307
DTSTAMP:20260422T103210
CREATED:20190805T193346Z
LAST-MODIFIED:20200306T231047Z
UID:44241-1583452800-1583539199@summitschoolaz.org
SUMMARY:Sabrecat Spirit Week
DESCRIPTION:
URL:https://summitschoolaz.org/event/sabrecat-spirit-week-184/
CATEGORIES:Activities
END:VEVENT
BEGIN:VEVENT
DTSTART;TZID=America/Phoenix:20200306T083000
DTEND;TZID=America/Phoenix:20200306T095000
DTSTAMP:20260422T103210
CREATED:20190805T193348Z
LAST-MODIFIED:20200305T231031Z
UID:44243-1583483400-1583488200@summitschoolaz.org
SUMMARY:Field Day: Preschool - 1st Grade
DESCRIPTION:
URL:https://summitschoolaz.org/event/field-day-preschool-5th-grade-25/
CATEGORIES:Activities
END:VEVENT
BEGIN:VEVENT
DTSTART;TZID=America/Phoenix:20200306T100000
DTEND;TZID=America/Phoenix:20200306T113000
DTSTAMP:20260422T103210
CREATED:20200227T231321Z
LAST-MODIFIED:20200305T231039Z
UID:46494-1583488800-1583494200@summitschoolaz.org
SUMMARY:Field Day: 2nd - 5th Grade
DESCRIPTION:
URL:https://summitschoolaz.org/event/field-day-2nd-5th-grade/
CATEGORIES:Activities
END:VEVENT
BEGIN:VEVENT
DTSTART;TZID=America/Phoenix:20200306T114200
DTEND;TZID=America/Phoenix:20200306T122700
DTSTAMP:20260422T103210
CREATED:20190805T193348Z
LAST-MODIFIED:20200305T231039Z
UID:44244-1583494920-1583497620@summitschoolaz.org
SUMMARY:Spirit Day #3 - Pizza Lunch for Sale to PS-8 Grade (No Dishes2u on this day)
DESCRIPTION:Spirit Day Theme: Class Colors Day
URL:https://summitschoolaz.org/event/spirit-day-3-pizza-lunch-ps-8-55/
CATEGORIES:Activities
END:VEVENT
BEGIN:VEVENT
DTSTART;TZID=America/Phoenix:20200306T133000
DTEND;TZID=America/Phoenix:20200306T143000
DTSTAMP:20260422T103210
CREATED:20190805T193348Z
LAST-MODIFIED:20200305T231040Z
UID:44245-1583501400-1583505000@summitschoolaz.org
SUMMARY:Field Day: Middle School
DESCRIPTION:
URL:https://summitschoolaz.org/event/field-day-middle-school-2/
CATEGORIES:Activities
END:VEVENT
BEGIN:VEVENT
DTSTART;VALUE=DATE:20200309
DTEND;VALUE=DATE:20200314
DTSTAMP:20260422T103210
CREATED:20190217T232532Z
LAST-MODIFIED:20200313T234053Z
UID:40528-1583712000-1584143999@summitschoolaz.org
SUMMARY:Spring Break
DESCRIPTION:
URL:https://summitschoolaz.org/event/spring-break-40/
CATEGORIES:Activities
END:VEVENT
BEGIN:VEVENT
DTSTART;VALUE=DATE:20200316
DTEND;VALUE=DATE:20200317
DTSTAMP:20260422T103210
CREATED:20190217T232541Z
LAST-MODIFIED:20200315T235540Z
UID:40529-1584316800-1584403199@summitschoolaz.org
SUMMARY:Professional Development Day - No School
DESCRIPTION:
URL:https://summitschoolaz.org/event/professional-development-day-no-school-58/
CATEGORIES:Activities
END:VEVENT
BEGIN:VEVENT
DTSTART;TZID=America/Phoenix:20200318T170000
DTEND;TZID=America/Phoenix:20200318T180000
DTSTAMP:20260422T103210
CREATED:20200130T230801Z
LAST-MODIFIED:20200318T231101Z
UID:46272-1584550800-1584554400@summitschoolaz.org
SUMMARY:Quarterly Progress Reports (5-8) Available on FACTS Family Portal
DESCRIPTION:
URL:https://summitschoolaz.org/event/quarterly-progress-reports-5-8-available-on-facts-family-portal/
CATEGORIES:Activities
END:VEVENT
BEGIN:VEVENT
DTSTART;VALUE=DATE:20200330
DTEND;VALUE=DATE:20200402
DTSTAMP:20260422T103210
CREATED:20200222T191152Z
LAST-MODIFIED:20200401T202557Z
UID:46448-1585526400-1585785599@summitschoolaz.org
SUMMARY:CREATE US Open Robotics Tournament in Council Bluffs\, IA
DESCRIPTION:
URL:https://summitschoolaz.org/event/create-us-open-robotics-tournament-in-council-bluffs-ia/
LOCATION:Council Bluffs\, IA\, USA\, United States
CATEGORIES:Robotics
END:VEVENT
BEGIN:VEVENT
DTSTART;VALUE=DATE:20200330
DTEND;VALUE=DATE:20200402
DTSTAMP:20260422T103210
CREATED:20200222T191153Z
LAST-MODIFIED:20200222T191153Z
UID:46449-1585526400-1585785599@summitschoolaz.org
SUMMARY:CREATE US Open Robotics Tournament in Council Bluffs\, IA
DESCRIPTION:
URL:https://summitschoolaz.org/event/create-us-open-robotics-tournament-in-council-bluffs-ia-2/
LOCATION:Council Bluffs\, IA\, USA\, United States
CATEGORIES:Robotics
END:VEVENT
END:VCALENDAR