BEGIN:VCALENDAR
VERSION:2.0
PRODID:-//Summit School - ECPv6.15.20//NONSGML v1.0//EN
CALSCALE:GREGORIAN
METHOD:PUBLISH
X-WR-CALNAME:Summit School
X-ORIGINAL-URL:https://summitschoolaz.org
X-WR-CALDESC:Events for Summit School
REFRESH-INTERVAL;VALUE=DURATION:PT1H
X-Robots-Tag:noindex
X-PUBLISHED-TTL:PT1H
BEGIN:VTIMEZONE
TZID:America/Phoenix
BEGIN:STANDARD
TZOFFSETFROM:-0700
TZOFFSETTO:-0700
TZNAME:MST
DTSTART:20220101T000000
END:STANDARD
END:VTIMEZONE
BEGIN:VEVENT
DTSTART;VALUE=DATE:20230306
DTEND;VALUE=DATE:20230311
DTSTAMP:20260422T224019
CREATED:20220726T235916Z
LAST-MODIFIED:20230310T121139Z
UID:130021-1678060800-1678492799@summitschoolaz.org
SUMMARY:Spirit Week
DESCRIPTION:
URL:https://summitschoolaz.org/event/spirit-week-2/
CATEGORIES:Activities
END:VEVENT
BEGIN:VEVENT
DTSTART;TZID=America/Phoenix:20230309T152500
DTEND;TZID=America/Phoenix:20230309T162500
DTSTAMP:20260422T224019
CREATED:20220822T160333Z
LAST-MODIFIED:20230309T121104Z
UID:130320-1678375500-1678379100@summitschoolaz.org
SUMMARY:TS Golf Academy Enrichment Class - Session 3 (K-8)
DESCRIPTION:K-8 Field
URL:https://summitschoolaz.org/event/ts-golf-academy-enrichment-class-session-3-k-8-6/
CATEGORIES:Enrichment
END:VEVENT
END:VCALENDAR