BEGIN:VCALENDAR
VERSION:2.0
PRODID:-//Summit School - ECPv6.15.20//NONSGML v1.0//EN
CALSCALE:GREGORIAN
METHOD:PUBLISH
X-ORIGINAL-URL:https://summitschoolaz.org
X-WR-CALDESC:Events for Summit School
REFRESH-INTERVAL;VALUE=DURATION:PT1H
X-Robots-Tag:noindex
X-PUBLISHED-TTL:PT1H
BEGIN:VTIMEZONE
TZID:America/Phoenix
BEGIN:STANDARD
TZOFFSETFROM:-0700
TZOFFSETTO:-0700
TZNAME:MST
DTSTART:20220101T000000
END:STANDARD
END:VTIMEZONE
BEGIN:VEVENT
DTSTART;TZID=America/Phoenix:20230206T100000
DTEND;TZID=America/Phoenix:20230206T104500
DTSTAMP:20260420T085419
CREATED:20221221T054105Z
LAST-MODIFIED:20230206T091743Z
UID:132002-1675677600-1675680300@summitschoolaz.org
SUMMARY:Guest Author: Dara Beevas Presenting to Grades K-2
DESCRIPTION:
URL:https://summitschoolaz.org/event/guest-author-dara-beevas-lil-queens-childrens-book-series/
LOCATION:400 Building-1-MPR (300)
CATEGORIES:Activities
END:VEVENT
BEGIN:VEVENT
DTSTART;TZID=America/Phoenix:20230206T151500
DTEND;TZID=America/Phoenix:20230206T163000
DTSTAMP:20260420T085419
CREATED:20220929T182543Z
LAST-MODIFIED:20230206T055534Z
UID:130924-1675696500-1675701000@summitschoolaz.org
SUMMARY:Robotics Group A
DESCRIPTION:
URL:https://summitschoolaz.org/event/robotics-group-a-15/
CATEGORIES:Robotics
END:VEVENT
BEGIN:VEVENT
DTSTART;TZID=America/Phoenix:20230206T160000
DTEND;TZID=America/Phoenix:20230206T170000
DTSTAMP:20260420T085419
CREATED:20230111T065611Z
LAST-MODIFIED:20230206T075555Z
UID:132200-1675699200-1675702800@summitschoolaz.org
SUMMARY:Middle School Flag Football Away Game vs. New Way Academy
DESCRIPTION:
URL:https://summitschoolaz.org/event/middle-school-flag-football-game-location-time-tbd-5/
LOCATION:New Way Academy\, 5048 E Oak St\, Phoenix\, AZ 85008\, USA\, 2401 E Oak St\, United States
CATEGORIES:Athletics
END:VEVENT
END:VCALENDAR