BEGIN:VCALENDAR
VERSION:2.0
PRODID:-//Summit School - ECPv6.15.20//NONSGML v1.0//EN
CALSCALE:GREGORIAN
METHOD:PUBLISH
X-WR-CALNAME:Summit School
X-ORIGINAL-URL:https://summitschoolaz.org
X-WR-CALDESC:Events for Summit School
REFRESH-INTERVAL;VALUE=DURATION:PT1H
X-Robots-Tag:noindex
X-PUBLISHED-TTL:PT1H
BEGIN:VTIMEZONE
TZID:America/Phoenix
BEGIN:STANDARD
TZOFFSETFROM:-0700
TZOFFSETTO:-0700
TZNAME:MST
DTSTART:20210101T000000
END:STANDARD
END:VTIMEZONE
BEGIN:VEVENT
DTSTART;VALUE=DATE:20221028
DTEND;VALUE=DATE:20221029
DTSTAMP:20260422T083405
CREATED:20220726T235604Z
LAST-MODIFIED:20221027T205905Z
UID:130014-1666915200-1667001599@summitschoolaz.org
SUMMARY:Ice Cream Friday - Buy a Sweet Treat from Student Council for $1
DESCRIPTION:
URL:https://summitschoolaz.org/event/ice-cream-day-1-buy-a-sweet-treat-from-student-council-for-1/
CATEGORIES:Activities
END:VEVENT
BEGIN:VEVENT
DTSTART;TZID=America/Phoenix:20221028T141100
DTEND;TZID=America/Phoenix:20221028T150100
DTSTAMP:20260422T083405
CREATED:20221021T202615Z
LAST-MODIFIED:20221027T205905Z
UID:131274-1666966260-1666969260@summitschoolaz.org
SUMMARY:Mountain Point High School Presentation
DESCRIPTION:
URL:https://summitschoolaz.org/event/mountain-point-high-school-presentation/
CATEGORIES:Activities
END:VEVENT
BEGIN:VEVENT
DTSTART;TZID=America/Phoenix:20221028T160000
DTEND;TZID=America/Phoenix:20221028T170000
DTSTAMP:20260422T083405
CREATED:20221024T202741Z
LAST-MODIFIED:20221027T205906Z
UID:131301-1666972800-1666976400@summitschoolaz.org
SUMMARY:7 on 7 Football Away Game @ Champion Schools South Mountain
DESCRIPTION:
URL:https://summitschoolaz.org/event/7-on-7-football-away-game-champion-schools-south-mountain/
LOCATION:Champion Schools – South Mountain\, 7900 S Jesse Owens Pkwy\, Phoenix\, AZ 85042\, USA
CATEGORIES:Athletics
END:VEVENT
BEGIN:VEVENT
DTSTART;TZID=America/Phoenix:20221028T190000
DTEND;TZID=America/Phoenix:20221028T210000
DTSTAMP:20260422T083406
CREATED:20220822T155317Z
LAST-MODIFIED:20221028T193405Z
UID:130216-1666983600-1666990800@summitschoolaz.org
SUMMARY:Middle School Halloween Dance
DESCRIPTION:
URL:https://summitschoolaz.org/event/middle-school-halloween-dance-3/
LOCATION:400 Building-1-MPR (300)
CATEGORIES:PTO
END:VEVENT
END:VCALENDAR