BEGIN:VCALENDAR
VERSION:2.0
PRODID:-//Summit School - ECPv6.15.20//NONSGML v1.0//EN
CALSCALE:GREGORIAN
METHOD:PUBLISH
X-ORIGINAL-URL:https://summitschoolaz.org
X-WR-CALDESC:Events for Summit School
REFRESH-INTERVAL;VALUE=DURATION:PT1H
X-Robots-Tag:noindex
X-PUBLISHED-TTL:PT1H
BEGIN:VTIMEZONE
TZID:America/Phoenix
BEGIN:STANDARD
TZOFFSETFROM:-0700
TZOFFSETTO:-0700
TZNAME:MST
DTSTART:20210101T000000
END:STANDARD
END:VTIMEZONE
BEGIN:VEVENT
DTSTART;VALUE=DATE:20221003
DTEND;VALUE=DATE:20221008
DTSTAMP:20260420T072901
CREATED:20211215T000057Z
LAST-MODIFIED:20221007T185529Z
UID:128151-1664755200-1665187199@summitschoolaz.org
SUMMARY:Fall Break
DESCRIPTION:
URL:https://summitschoolaz.org/event/fall-break-4/
CATEGORIES:Activities
END:VEVENT
BEGIN:VEVENT
DTSTART;TZID=America/Phoenix:20221006T063000
DTEND;TZID=America/Phoenix:20221006T074500
DTSTAMP:20260420T072901
CREATED:20220822T154944Z
LAST-MODIFIED:20220917T172604Z
UID:130196-1665037800-1665042300@summitschoolaz.org
SUMMARY:Elementary & Middle School Cross Country Practice
DESCRIPTION:
URL:https://summitschoolaz.org/event/elementary-middle-school-cross-country-practice-13/
LOCATION:Pecos Park
CATEGORIES:Athletics
END:VEVENT
END:VCALENDAR