BEGIN:VCALENDAR
VERSION:2.0
PRODID:-//Summit School - ECPv6.15.20//NONSGML v1.0//EN
CALSCALE:GREGORIAN
METHOD:PUBLISH
X-ORIGINAL-URL:https://summitschoolaz.org
X-WR-CALDESC:Events for Summit School
REFRESH-INTERVAL;VALUE=DURATION:PT1H
X-Robots-Tag:noindex
X-PUBLISHED-TTL:PT1H
BEGIN:VTIMEZONE
TZID:America/Phoenix
BEGIN:STANDARD
TZOFFSETFROM:-0700
TZOFFSETTO:-0700
TZNAME:MST
DTSTART:20210101T000000
END:STANDARD
END:VTIMEZONE
BEGIN:VEVENT
DTSTART;VALUE=DATE:20220627
DTEND;VALUE=DATE:20220702
DTSTAMP:20260419T163725
CREATED:20220317T211740Z
LAST-MODIFIED:20220701T171136Z
UID:128765-1656288000-1656719999@summitschoolaz.org
SUMMARY:Camp Summit: Week 4
DESCRIPTION:Week 4 Themes \n\nPreschool: Space\nK-8: Camp Invention – Explore\n\nRegister Now!https://summitschoolaz.org/summer-camps/
URL:https://summitschoolaz.org/event/camp-summit-week-4/
CATEGORIES:Summer Programs
END:VEVENT
BEGIN:VEVENT
DTSTART;VALUE=DATE:20220701
DTEND;VALUE=DATE:20220702
DTSTAMP:20260419T163725
CREATED:20211215T000020Z
LAST-MODIFIED:20220701T225547Z
UID:128141-1656633600-1656719999@summitschoolaz.org
SUMMARY:Last Day of Summer Camp
DESCRIPTION:
URL:https://summitschoolaz.org/event/last-day-of-summer-camp/
CATEGORIES:Activities
END:VEVENT
END:VCALENDAR