BEGIN:VCALENDAR
VERSION:2.0
PRODID:-//Summit School - ECPv6.15.20//NONSGML v1.0//EN
CALSCALE:GREGORIAN
METHOD:PUBLISH
X-ORIGINAL-URL:https://summitschoolaz.org
X-WR-CALDESC:Events for Summit School
REFRESH-INTERVAL;VALUE=DURATION:PT1H
X-Robots-Tag:noindex
X-PUBLISHED-TTL:PT1H
BEGIN:VTIMEZONE
TZID:America/Phoenix
BEGIN:STANDARD
TZOFFSETFROM:-0700
TZOFFSETTO:-0700
TZNAME:MST
DTSTART:20210101T000000
END:STANDARD
END:VTIMEZONE
BEGIN:VEVENT
DTSTART;VALUE=DATE:20220620
DTEND;VALUE=DATE:20220621
DTSTAMP:20260422T120515
CREATED:20220611T215704Z
LAST-MODIFIED:20220620T224026Z
UID:129577-1655683200-1655769599@summitschoolaz.org
SUMMARY:Juneteenth Observed (Holiday) - Office Closed
DESCRIPTION:
URL:https://summitschoolaz.org/event/juneteenth-observed-holiday-office-closed/
CATEGORIES:Activities
END:VEVENT
END:VCALENDAR