BEGIN:VCALENDAR
VERSION:2.0
PRODID:-//Summit School - ECPv6.15.20//NONSGML v1.0//EN
CALSCALE:GREGORIAN
METHOD:PUBLISH
X-ORIGINAL-URL:https://summitschoolaz.org
X-WR-CALDESC:Events for Summit School
REFRESH-INTERVAL;VALUE=DURATION:PT1H
X-Robots-Tag:noindex
X-PUBLISHED-TTL:PT1H
BEGIN:VTIMEZONE
TZID:America/Phoenix
BEGIN:STANDARD
TZOFFSETFROM:-0700
TZOFFSETTO:-0700
TZNAME:MST
DTSTART:20210101T000000
END:STANDARD
END:VTIMEZONE
BEGIN:VEVENT
DTSTART;VALUE=DATE:20220531
DTEND;VALUE=DATE:20220601
DTSTAMP:20260419T181509
CREATED:20211216T235731Z
LAST-MODIFIED:20220531T211027Z
UID:128195-1653955200-1654041599@summitschoolaz.org
SUMMARY:Summer Camp Begins
DESCRIPTION:
URL:https://summitschoolaz.org/event/summer-camp-begins/
CATEGORIES:Activities
END:VEVENT
BEGIN:VEVENT
DTSTART;VALUE=DATE:20220531
DTEND;VALUE=DATE:20220604
DTSTAMP:20260419T181509
CREATED:20220317T211737Z
LAST-MODIFIED:20220603T165625Z
UID:128760-1653955200-1654300799@summitschoolaz.org
SUMMARY:Camp Summit: Pre-Camp Week
DESCRIPTION:Pre-Camp Week Theme \n\nGames\, Games\, Games\n\nRegister Now!https://summitschoolaz.org/summer-camps/
URL:https://summitschoolaz.org/event/camp-summit-pre-camp-week/
CATEGORIES:Summer Programs
END:VEVENT
END:VCALENDAR