BEGIN:VCALENDAR
VERSION:2.0
PRODID:-//Summit School - ECPv6.15.20//NONSGML v1.0//EN
CALSCALE:GREGORIAN
METHOD:PUBLISH
X-WR-CALNAME:Summit School
X-ORIGINAL-URL:https://summitschoolaz.org
X-WR-CALDESC:Events for Summit School
REFRESH-INTERVAL;VALUE=DURATION:PT1H
X-Robots-Tag:noindex
X-PUBLISHED-TTL:PT1H
BEGIN:VTIMEZONE
TZID:America/Phoenix
BEGIN:STANDARD
TZOFFSETFROM:-0700
TZOFFSETTO:-0700
TZNAME:MST
DTSTART:20210101T000000
END:STANDARD
END:VTIMEZONE
BEGIN:VEVENT
DTSTART;VALUE=DATE:20220519
DTEND;VALUE=DATE:20220520
DTSTAMP:20260423T021535
CREATED:20210910T191911Z
LAST-MODIFIED:20220519T204057Z
UID:127139-1652918400-1653004799@summitschoolaz.org
SUMMARY:8th Grade Graduates ONLY Do Not Attend School
DESCRIPTION:
URL:https://summitschoolaz.org/event/8th-grade-graduates-only-do-not-attend-school-4/
CATEGORIES:Activities
END:VEVENT
BEGIN:VEVENT
DTSTART;TZID=America/Phoenix:20220519T082500
DTEND;TZID=America/Phoenix:20220519T090000
DTSTAMP:20260423T021535
CREATED:20220513T202538Z
LAST-MODIFIED:20220518T204029Z
UID:129328-1652948700-1652950800@summitschoolaz.org
SUMMARY:Dedication to Honor Ms. Andrea
DESCRIPTION:
URL:https://summitschoolaz.org/event/dedication-to-honor-ms-andrea/
LOCATION:Outdoor Spaces-1-PS Playground (50)\, Outdoor Spaces-1-Ramada and Picnic Tables (outside of K1) (25)
CATEGORIES:Activities
END:VEVENT
BEGIN:VEVENT
DTSTART;TZID=America/Phoenix:20220519T113500
DTEND;TZID=America/Phoenix:20220519T132000
DTSTAMP:20260423T021535
CREATED:20220511T164053Z
LAST-MODIFIED:20220518T204037Z
UID:129303-1652960100-1652966400@summitschoolaz.org
SUMMARY:Sabrecat Band Performs at Lunch
DESCRIPTION:
URL:https://summitschoolaz.org/event/sabrecat-band-performs-at-lunch/
LOCATION:400 Building-1-MPR (300)
CATEGORIES:Activities
END:VEVENT
END:VCALENDAR