BEGIN:VCALENDAR
VERSION:2.0
PRODID:-//Summit School - ECPv6.15.20//NONSGML v1.0//EN
CALSCALE:GREGORIAN
METHOD:PUBLISH
X-WR-CALNAME:Summit School
X-ORIGINAL-URL:https://summitschoolaz.org
X-WR-CALDESC:Events for Summit School
REFRESH-INTERVAL;VALUE=DURATION:PT1H
X-Robots-Tag:noindex
X-PUBLISHED-TTL:PT1H
BEGIN:VTIMEZONE
TZID:America/Phoenix
BEGIN:STANDARD
TZOFFSETFROM:-0700
TZOFFSETTO:-0700
TZNAME:MST
DTSTART:20210101T000000
END:STANDARD
END:VTIMEZONE
BEGIN:VEVENT
DTSTART;TZID=America/Phoenix:20220518T123000
DTEND;TZID=America/Phoenix:20220518T123000
DTSTAMP:20260425T062336
CREATED:20210910T191911Z
LAST-MODIFIED:20220517T204028Z
UID:127138-1652877000-1652877000@summitschoolaz.org
SUMMARY:8th Grade ONLY Early Dismissal - pick up in front office
DESCRIPTION:
URL:https://summitschoolaz.org/event/8th-grade-only-early-dismissal-pick-up-in-front-office-3/
LOCATION:Front Office
CATEGORIES:Activities
END:VEVENT
BEGIN:VEVENT
DTSTART;TZID=America/Phoenix:20220518T151500
DTEND;TZID=America/Phoenix:20220518T154500
DTSTAMP:20260425T062336
CREATED:20220512T201914Z
LAST-MODIFIED:20220518T204028Z
UID:129318-1652886900-1652888700@summitschoolaz.org
SUMMARY:K-4 Front Gate Dismissal
DESCRIPTION:8th Grade Graduation Setup
URL:https://summitschoolaz.org/event/k-4-front-gate-dismissal-54/
LOCATION:Front Gate
CATEGORIES:Activities
END:VEVENT
BEGIN:VEVENT
DTSTART;TZID=America/Phoenix:20220518T163000
DTEND;TZID=America/Phoenix:20220518T173000
DTSTAMP:20260425T062336
CREATED:20210910T191911Z
LAST-MODIFIED:20220518T204028Z
UID:127140-1652891400-1652895000@summitschoolaz.org
SUMMARY:8th Grade Graduation & Reception
DESCRIPTION:
URL:https://summitschoolaz.org/event/8th-grade-graduation-reception-4/
LOCATION:MPR
CATEGORIES:Activities
END:VEVENT
END:VCALENDAR