BEGIN:VCALENDAR
VERSION:2.0
PRODID:-//Summit School - ECPv6.15.20//NONSGML v1.0//EN
CALSCALE:GREGORIAN
METHOD:PUBLISH
X-ORIGINAL-URL:https://summitschoolaz.org
X-WR-CALDESC:Events for Summit School
REFRESH-INTERVAL;VALUE=DURATION:PT1H
X-Robots-Tag:noindex
X-PUBLISHED-TTL:PT1H
BEGIN:VTIMEZONE
TZID:America/Phoenix
BEGIN:STANDARD
TZOFFSETFROM:-0700
TZOFFSETTO:-0700
TZNAME:MST
DTSTART:20210101T000000
END:STANDARD
END:VTIMEZONE
BEGIN:VEVENT
DTSTART;TZID=America/Phoenix:20220517T140000
DTEND;TZID=America/Phoenix:20220517T150000
DTSTAMP:20260423T021722
CREATED:20220504T164106Z
LAST-MODIFIED:20220517T204028Z
UID:129237-1652796000-1652799600@summitschoolaz.org
SUMMARY:Kindergarten Culminating Event: Meet the Authors
DESCRIPTION:
URL:https://summitschoolaz.org/event/kindergarten-meet-the-authors/
LOCATION:400 Building-1-MPR (300)
CATEGORIES:Activities
END:VEVENT
END:VCALENDAR