BEGIN:VCALENDAR
VERSION:2.0
PRODID:-//Summit School - ECPv6.15.20//NONSGML v1.0//EN
CALSCALE:GREGORIAN
METHOD:PUBLISH
X-WR-CALNAME:Summit School
X-ORIGINAL-URL:https://summitschoolaz.org
X-WR-CALDESC:Events for Summit School
REFRESH-INTERVAL;VALUE=DURATION:PT1H
X-Robots-Tag:noindex
X-PUBLISHED-TTL:PT1H
BEGIN:VTIMEZONE
TZID:America/Phoenix
BEGIN:STANDARD
TZOFFSETFROM:-0700
TZOFFSETTO:-0700
TZNAME:MST
DTSTART:20210101T000000
END:STANDARD
END:VTIMEZONE
BEGIN:VEVENT
DTSTART;TZID=America/Phoenix:20220514T093000
DTEND;TZID=America/Phoenix:20220514T123000
DTSTAMP:20260425T103129
CREATED:20220505T164108Z
LAST-MODIFIED:20220513T202528Z
UID:129246-1652520600-1652531400@summitschoolaz.org
SUMMARY:Dadurday (Mom's too)
DESCRIPTION:Friends\, \nWe will be having a Dadurday on Saturday\, May 14th from 9:30 am to 12:30 pm \nIf you can spare a few hours\, please join us. \nWe are hoping to assemble some new picnic tables\, assemble a shed\, put upsome sun sails\, and other projects. \nPlease bring a water bottle with you and drills and drill bits if you havethem. \nThis is also a great opportunity for middle school students to get servicehours. \nThe link to sign up is below. \nThank you\, \nBarb Nicholas and Kyle Vanden Bosch \n  \n \nhttps://www.signupgenius.com/go/70a0d4cacad22ab9-dadurday10
URL:https://summitschoolaz.org/event/dadurday-moms-too-4/
CATEGORIES:Activities
END:VEVENT
END:VCALENDAR