BEGIN:VCALENDAR
VERSION:2.0
PRODID:-//Summit School - ECPv6.15.20//NONSGML v1.0//EN
CALSCALE:GREGORIAN
METHOD:PUBLISH
X-ORIGINAL-URL:https://summitschoolaz.org
X-WR-CALDESC:Events for Summit School
REFRESH-INTERVAL;VALUE=DURATION:PT1H
X-Robots-Tag:noindex
X-PUBLISHED-TTL:PT1H
BEGIN:VTIMEZONE
TZID:America/Phoenix
BEGIN:STANDARD
TZOFFSETFROM:-0700
TZOFFSETTO:-0700
TZNAME:MST
DTSTART:20210101T000000
END:STANDARD
END:VTIMEZONE
BEGIN:VEVENT
DTSTART;VALUE=DATE:20220510
DTEND;VALUE=DATE:20220513
DTSTAMP:20260423T021753
CREATED:20220502T164840Z
LAST-MODIFIED:20220512T165541Z
UID:129222-1652140800-1652399999@summitschoolaz.org
SUMMARY:Elementary Robotics at World Championship in Dallas\, TX
DESCRIPTION:
URL:https://summitschoolaz.org/event/elementary-robotics-at-world-championship-in-dallas-tx/
CATEGORIES:Robotics
END:VEVENT
BEGIN:VEVENT
DTSTART;TZID=America/Phoenix:20220511T082000
DTEND;TZID=America/Phoenix:20220511T090000
DTSTAMP:20260423T021753
CREATED:20210910T211423Z
LAST-MODIFIED:20220510T164039Z
UID:127234-1652257200-1652259600@summitschoolaz.org
SUMMARY:8th Grade Celebration of Class -- Lecky
DESCRIPTION:
URL:https://summitschoolaz.org/event/8th-grade-celebration-of-class-lecky-via-zoom/
CATEGORIES:Morning Meetings
END:VEVENT
BEGIN:VEVENT
DTSTART;TZID=America/Phoenix:20220511T114500
DTEND;TZID=America/Phoenix:20220511T151500
DTSTAMP:20260423T021753
CREATED:20220502T164355Z
LAST-MODIFIED:20220511T164038Z
UID:129215-1652269500-1652282100@summitschoolaz.org
SUMMARY:5th Grade Field Trip - Chase Field (lunch on field trip)
DESCRIPTION:
URL:https://summitschoolaz.org/event/5th-grade-field-trip-chase-field-lunch-on-field-trip/
LOCATION:Chase Field\, 401 E Jefferson St\, Phoenix\, AZ 85004\, USA
CATEGORIES:Field Trips
END:VEVENT
BEGIN:VEVENT
DTSTART;TZID=America/Phoenix:20220511T160000
DTEND;TZID=America/Phoenix:20220511T180000
DTSTAMP:20260423T021753
CREATED:20220330T203124Z
LAST-MODIFIED:20220511T164028Z
UID:128943-1652284800-1652292000@summitschoolaz.org
SUMMARY:New Teacher Welcome Reception
DESCRIPTION:
URL:https://summitschoolaz.org/event/new-staff-welcome-reception/
LOCATION:400 Building-1-MPR (300)
CATEGORIES:Activities
ORGANIZER;CN="Activities":MAILTO:mm9k9ij3q7e0mt1kf6qaqpjkks@group.calendar.google.com
END:VEVENT
END:VCALENDAR