BEGIN:VCALENDAR
VERSION:2.0
PRODID:-//Summit School - ECPv6.15.20//NONSGML v1.0//EN
CALSCALE:GREGORIAN
METHOD:PUBLISH
X-WR-CALNAME:Summit School
X-ORIGINAL-URL:https://summitschoolaz.org
X-WR-CALDESC:Events for Summit School
REFRESH-INTERVAL;VALUE=DURATION:PT1H
X-Robots-Tag:noindex
X-PUBLISHED-TTL:PT1H
BEGIN:VTIMEZONE
TZID:America/Phoenix
BEGIN:STANDARD
TZOFFSETFROM:-0700
TZOFFSETTO:-0700
TZNAME:MST
DTSTART:20210101T000000
END:STANDARD
END:VTIMEZONE
BEGIN:VEVENT
DTSTART;VALUE=DATE:20220508
DTEND;VALUE=DATE:20220511
DTSTAMP:20260425T062302
CREATED:20220502T164840Z
LAST-MODIFIED:20220510T165543Z
UID:129223-1651968000-1652227199@summitschoolaz.org
SUMMARY:MS Robotics Teams at World Championship in Dallas\, TX
DESCRIPTION:
URL:https://summitschoolaz.org/event/ms-robotics-teams-at-world-championship-in-dallas-tx/
CATEGORIES:Robotics
END:VEVENT
END:VCALENDAR