BEGIN:VCALENDAR
VERSION:2.0
PRODID:-//Summit School - ECPv6.15.20//NONSGML v1.0//EN
CALSCALE:GREGORIAN
METHOD:PUBLISH
X-ORIGINAL-URL:https://summitschoolaz.org
X-WR-CALDESC:Events for Summit School
REFRESH-INTERVAL;VALUE=DURATION:PT1H
X-Robots-Tag:noindex
X-PUBLISHED-TTL:PT1H
BEGIN:VTIMEZONE
TZID:America/Phoenix
BEGIN:STANDARD
TZOFFSETFROM:-0700
TZOFFSETTO:-0700
TZNAME:MST
DTSTART:20190101T000000
END:STANDARD
END:VTIMEZONE
BEGIN:VEVENT
DTSTART;VALUE=DATE:20200306
DTEND;VALUE=DATE:20200307
DTSTAMP:20260422T165627
CREATED:20190217T232532Z
LAST-MODIFIED:20200306T231047Z
UID:40527-1583452800-1583539199@summitschoolaz.org
SUMMARY:End of 3rd Quarter
DESCRIPTION:
URL:https://summitschoolaz.org/event/end-of-3rd-quarter-79/
CATEGORIES:Activities
END:VEVENT
BEGIN:VEVENT
DTSTART;VALUE=DATE:20200306
DTEND;VALUE=DATE:20200307
DTSTAMP:20260422T165627
CREATED:20190805T193346Z
LAST-MODIFIED:20200306T231047Z
UID:44241-1583452800-1583539199@summitschoolaz.org
SUMMARY:Sabrecat Spirit Week
DESCRIPTION:
URL:https://summitschoolaz.org/event/sabrecat-spirit-week-184/
CATEGORIES:Activities
END:VEVENT
BEGIN:VEVENT
DTSTART;TZID=America/Phoenix:20200306T083000
DTEND;TZID=America/Phoenix:20200306T095000
DTSTAMP:20260422T165627
CREATED:20190805T193348Z
LAST-MODIFIED:20200305T231031Z
UID:44243-1583483400-1583488200@summitschoolaz.org
SUMMARY:Field Day: Preschool - 1st Grade
DESCRIPTION:
URL:https://summitschoolaz.org/event/field-day-preschool-5th-grade-25/
CATEGORIES:Activities
END:VEVENT
BEGIN:VEVENT
DTSTART;TZID=America/Phoenix:20200306T100000
DTEND;TZID=America/Phoenix:20200306T113000
DTSTAMP:20260422T165627
CREATED:20200227T231321Z
LAST-MODIFIED:20200305T231039Z
UID:46494-1583488800-1583494200@summitschoolaz.org
SUMMARY:Field Day: 2nd - 5th Grade
DESCRIPTION:
URL:https://summitschoolaz.org/event/field-day-2nd-5th-grade/
CATEGORIES:Activities
END:VEVENT
BEGIN:VEVENT
DTSTART;TZID=America/Phoenix:20200306T114200
DTEND;TZID=America/Phoenix:20200306T122700
DTSTAMP:20260422T165627
CREATED:20190805T193348Z
LAST-MODIFIED:20200305T231039Z
UID:44244-1583494920-1583497620@summitschoolaz.org
SUMMARY:Spirit Day #3 - Pizza Lunch for Sale to PS-8 Grade (No Dishes2u on this day)
DESCRIPTION:Spirit Day Theme: Class Colors Day
URL:https://summitschoolaz.org/event/spirit-day-3-pizza-lunch-ps-8-55/
CATEGORIES:Activities
END:VEVENT
BEGIN:VEVENT
DTSTART;TZID=America/Phoenix:20200306T133000
DTEND;TZID=America/Phoenix:20200306T143000
DTSTAMP:20260422T165627
CREATED:20190805T193348Z
LAST-MODIFIED:20200305T231040Z
UID:44245-1583501400-1583505000@summitschoolaz.org
SUMMARY:Field Day: Middle School
DESCRIPTION:
URL:https://summitschoolaz.org/event/field-day-middle-school-2/
CATEGORIES:Activities
END:VEVENT
END:VCALENDAR