BEGIN:VCALENDAR
VERSION:2.0
PRODID:-//Summit School - ECPv6.15.20//NONSGML v1.0//EN
CALSCALE:GREGORIAN
METHOD:PUBLISH
X-WR-CALNAME:Summit School
X-ORIGINAL-URL:https://summitschoolaz.org
X-WR-CALDESC:Events for Summit School
REFRESH-INTERVAL;VALUE=DURATION:PT1H
X-Robots-Tag:noindex
X-PUBLISHED-TTL:PT1H
BEGIN:VTIMEZONE
TZID:America/Phoenix
BEGIN:STANDARD
TZOFFSETFROM:-0700
TZOFFSETTO:-0700
TZNAME:MST
DTSTART:20190101T000000
END:STANDARD
END:VTIMEZONE
BEGIN:VEVENT
DTSTART;TZID=America/Phoenix:20200229T080000
DTEND;TZID=America/Phoenix:20200229T160000
DTSTAMP:20260423T023007
CREATED:20200210T185537Z
LAST-MODIFIED:20200229T191034Z
UID:46364-1582963200-1582992000@summitschoolaz.org
SUMMARY:Robotics - Elementary State Championship
DESCRIPTION:Information Page \nAgenda: \n\n8:00AM – 9:00AM          Check-in. Go to pit and set up.\n8:30AM – 10:30AM        Judging\n9:00AM – 10:00AM        Skills Fields Open\n10:00AM – 10:30AM      Drivers Meeting and Opening Remarks\n10:30AM  – Noon          Teamwork Challenge Matches\nNoon – 1:00PM             LUNCH\n1:00PM – 2:30PM         Continue Teamwork Challenge Matches\n2:30PM – 3:30PM         Final Championship Round\n3:30PM – 4:00PM         Awards Ceremony\n4:00PM                       Clean up pits and go home
URL:https://summitschoolaz.org/event/robotics-elementary-state-championship/
LOCATION:Copper Trails Elementary School 16875 Canyon Trails Boulevard Goodyear\, Arizona 85338\, 17501 W Canyon Ln\, United States
CATEGORIES:Robotics
END:VEVENT
END:VCALENDAR