BEGIN:VCALENDAR
VERSION:2.0
PRODID:-//Summit School - ECPv6.15.20//NONSGML v1.0//EN
CALSCALE:GREGORIAN
METHOD:PUBLISH
X-ORIGINAL-URL:https://summitschoolaz.org
X-WR-CALDESC:Events for Summit School
REFRESH-INTERVAL;VALUE=DURATION:PT1H
X-Robots-Tag:noindex
X-PUBLISHED-TTL:PT1H
BEGIN:VTIMEZONE
TZID:America/Phoenix
BEGIN:STANDARD
TZOFFSETFROM:-0700
TZOFFSETTO:-0700
TZNAME:MST
DTSTART:20190101T000000
END:STANDARD
END:VTIMEZONE
BEGIN:VEVENT
DTSTART;VALUE=DATE:20200224
DTEND;VALUE=DATE:20200229
DTSTAMP:20260422T205447
CREATED:20190808T195341Z
LAST-MODIFIED:20200228T194106Z
UID:44364-1582502400-1582934399@summitschoolaz.org
SUMMARY:Spring Book Fair
DESCRIPTION:
URL:https://summitschoolaz.org/event/spring-book-fair-5/
LOCATION:IDEA Lab
CATEGORIES:PTO
END:VEVENT
BEGIN:VEVENT
DTSTART;TZID=America/Phoenix:20200226T084500
DTEND;TZID=America/Phoenix:20200226T123000
DTSTAMP:20260422T205447
CREATED:20200131T032643Z
LAST-MODIFIED:20200131T032643Z
UID:46277-1582706700-1582720200@summitschoolaz.org
SUMMARY:PS 213 Field Trip – i.d.e.a. Museum
DESCRIPTION:
URL:https://summitschoolaz.org/event/ps-213-field-trip-i-d-e-a-museum-2/
LOCATION:i.d.e.a. Museum\, 150 W Pepper Pl\, Mesa\, AZ 85201\, USA\, 2 E Pepper Pl\, United States
CATEGORIES:Field Trips
END:VEVENT
BEGIN:VEVENT
DTSTART;TZID=America/Phoenix:20200226T113000
DTEND;TZID=America/Phoenix:20200226T123000
DTSTAMP:20260422T205447
CREATED:20190808T195342Z
LAST-MODIFIED:20200225T194042Z
UID:44368-1582716600-1582720200@summitschoolaz.org
SUMMARY:Picnic with Pals: Preschool
DESCRIPTION:Monday\, February 24\nKindergarten & 1st Grade: 11:42-12:27\nTuesday\, February 25\n2nd & 3rd Grade: 11:42-12:27\nWednesday\, February 26\nPreschool: 11:30-12:30\n4th & 5th Grade: 12:30-1:15\nThursday\, February 27\n6th\, 7th & 8th Grade: 12:30-1:15\nFriday\, February 28\nOpen Picnic with Pals: 11:42-1:15 (for any family that could not make it earlier in the week)
URL:https://summitschoolaz.org/event/picnic-with-pals-preschool-3/
LOCATION:Inner Courtyard
CATEGORIES:PTO
END:VEVENT
BEGIN:VEVENT
DTSTART;TZID=America/Phoenix:20200226T123000
DTEND;TZID=America/Phoenix:20200226T131500
DTSTAMP:20260422T205447
CREATED:20190808T195343Z
LAST-MODIFIED:20200226T194221Z
UID:44369-1582720200-1582722900@summitschoolaz.org
SUMMARY:Picnic with Pals: 4th & 5th Grade
DESCRIPTION:Monday\, February 24\nKindergarten & 1st Grade: 11:42-12:27\nTuesday\, February 25\n2nd & 3rd Grade: 11:42-12:27\nWednesday\, February 26\nPreschool: 11:30-12:30\n4th & 5th Grade: 12:30-1:15\nThursday\, February 27\n6th\, 7th & 8th Grade: 12:30-1:15\nFriday\, February 28\nOpen Picnic with Pals: 11:42-1:15 (for any family that could not make it earlier in the week)
URL:https://summitschoolaz.org/event/picnic-with-pals-4th-5th-grade-3/
LOCATION:Inner Courtyard
CATEGORIES:PTO
END:VEVENT
END:VCALENDAR