BEGIN:VCALENDAR
VERSION:2.0
PRODID:-//Summit School - ECPv6.15.20//NONSGML v1.0//EN
CALSCALE:GREGORIAN
METHOD:PUBLISH
X-WR-CALNAME:Summit School
X-ORIGINAL-URL:https://summitschoolaz.org
X-WR-CALDESC:Events for Summit School
REFRESH-INTERVAL;VALUE=DURATION:PT1H
X-Robots-Tag:noindex
X-PUBLISHED-TTL:PT1H
BEGIN:VTIMEZONE
TZID:America/Phoenix
BEGIN:STANDARD
TZOFFSETFROM:-0700
TZOFFSETTO:-0700
TZNAME:MST
DTSTART:20190101T000000
END:STANDARD
END:VTIMEZONE
BEGIN:VEVENT
DTSTART;TZID=America/Phoenix:20200222T083000
DTEND;TZID=America/Phoenix:20200222T163000
DTSTAMP:20260422T151801
CREATED:20200222T191151Z
LAST-MODIFIED:20200222T191152Z
UID:46446-1582360200-1582389000@summitschoolaz.org
SUMMARY:Robotics - Middle School State at Microchip
DESCRIPTION:
URL:https://summitschoolaz.org/event/robotics-middle-school-state-at-microchip/
CATEGORIES:Robotics
END:VEVENT
END:VCALENDAR