BEGIN:VCALENDAR
VERSION:2.0
PRODID:-//Summit School - ECPv6.15.20//NONSGML v1.0//EN
CALSCALE:GREGORIAN
METHOD:PUBLISH
X-WR-CALNAME:Summit School
X-ORIGINAL-URL:https://summitschoolaz.org
X-WR-CALDESC:Events for Summit School
REFRESH-INTERVAL;VALUE=DURATION:PT1H
X-Robots-Tag:noindex
X-PUBLISHED-TTL:PT1H
BEGIN:VTIMEZONE
TZID:America/Phoenix
BEGIN:STANDARD
TZOFFSETFROM:-0700
TZOFFSETTO:-0700
TZNAME:MST
DTSTART:20190101T000000
END:STANDARD
END:VTIMEZONE
BEGIN:VEVENT
DTSTART;TZID=America/Phoenix:20200221T090000
DTEND;TZID=America/Phoenix:20200221T093000
DTSTAMP:20260422T185823
CREATED:20200124T225004Z
LAST-MODIFIED:20200220T231128Z
UID:46226-1582275600-1582277400@summitschoolaz.org
SUMMARY:3-Day Preschool & K1 ONLY Class Photo
DESCRIPTION:
URL:https://summitschoolaz.org/event/3-day-preschool-only-class-photo/
LOCATION:MPR
CATEGORIES:Activities
END:VEVENT
BEGIN:VEVENT
DTSTART;TZID=America/Phoenix:20200221T170000
DTEND;TZID=America/Phoenix:20200221T190000
DTSTAMP:20260422T185823
CREATED:20190803T192354Z
LAST-MODIFIED:20200221T191209Z
UID:44178-1582304400-1582311600@summitschoolaz.org
SUMMARY:Summit PTO: Son's Night Out
DESCRIPTION:
URL:https://summitschoolaz.org/event/summit-pto-sweet-son-event/
LOCATION:Urban Air Trampoline and Adventure Park\, 4816 E Ray Rd\, Phoenix\, AZ 85044\, USA\, United States
CATEGORIES:PTO
END:VEVENT
END:VCALENDAR