BEGIN:VCALENDAR
VERSION:2.0
PRODID:-//Summit School - ECPv6.15.20//NONSGML v1.0//EN
CALSCALE:GREGORIAN
METHOD:PUBLISH
X-ORIGINAL-URL:https://summitschoolaz.org
X-WR-CALDESC:Events for Summit School
REFRESH-INTERVAL;VALUE=DURATION:PT1H
X-Robots-Tag:noindex
X-PUBLISHED-TTL:PT1H
BEGIN:VTIMEZONE
TZID:America/Phoenix
BEGIN:STANDARD
TZOFFSETFROM:-0700
TZOFFSETTO:-0700
TZNAME:MST
DTSTART:20190101T000000
END:STANDARD
END:VTIMEZONE
BEGIN:VEVENT
DTSTART;TZID=America/Phoenix:20200220T083000
DTEND;TZID=America/Phoenix:20200220T101500
DTSTAMP:20260422T115406
CREATED:20190805T193344Z
LAST-MODIFIED:20200219T231030Z
UID:44236-1582187400-1582193700@summitschoolaz.org
SUMMARY:Open House
DESCRIPTION:
URL:https://summitschoolaz.org/event/open-house-4/
LOCATION:MPR and Summit School Campus
CATEGORIES:Activities
END:VEVENT
BEGIN:VEVENT
DTSTART;TZID=America/Phoenix:20200220T090000
DTEND;TZID=America/Phoenix:20200220T110000
DTSTAMP:20260422T115406
CREATED:20200117T224411Z
LAST-MODIFIED:20200219T231030Z
UID:46162-1582189200-1582196400@summitschoolaz.org
SUMMARY:Toddler Discoveries - Spring Session
DESCRIPTION:
URL:https://summitschoolaz.org/event/toddler-discoveries-spring-session-4/
CATEGORIES:Activities
END:VEVENT
BEGIN:VEVENT
DTSTART;TZID=America/Phoenix:20200220T151500
DTEND;TZID=America/Phoenix:20200220T163000
DTSTAMP:20260422T115406
CREATED:20190814T195223Z
LAST-MODIFIED:20200220T191028Z
UID:44466-1582211700-1582216200@summitschoolaz.org
SUMMARY:Robotics Meeting in IDEA Lab
DESCRIPTION:This event has a Google Hangouts video call.\nJoin: https://hangouts.google.com/hangouts/_/calendar/ZXM0aGZsa3BwNWk1azNuMmdxZ2hmZjQxcDBAZ3JvdXAuY2FsZW5kYXIuZ29vZ2xlLmNvbQ.41s3qtvqrr7dor6tpigtsb85ak?hs=121
URL:https://summitschoolaz.org/event/robotics-meeting-in-idea-lab-19/
LOCATION:IDEA Lab
CATEGORIES:Robotics
END:VEVENT
BEGIN:VEVENT
DTSTART;TZID=America/Phoenix:20200220T173000
DTEND;TZID=America/Phoenix:20200220T190000
DTSTAMP:20260422T115406
CREATED:20200124T225004Z
LAST-MODIFIED:20200220T231127Z
UID:46225-1582219800-1582225200@summitschoolaz.org
SUMMARY:7th Grade Culminating Event: Shakespeare Unshackled
DESCRIPTION:
URL:https://summitschoolaz.org/event/7th-grade-culminating-event-shakespeare-unshackled-30/
LOCATION:MPR
CATEGORIES:Activities
END:VEVENT
END:VCALENDAR