BEGIN:VCALENDAR
VERSION:2.0
PRODID:-//Summit School - ECPv6.15.20//NONSGML v1.0//EN
CALSCALE:GREGORIAN
METHOD:PUBLISH
X-ORIGINAL-URL:https://summitschoolaz.org
X-WR-CALDESC:Events for Summit School
REFRESH-INTERVAL;VALUE=DURATION:PT1H
X-Robots-Tag:noindex
X-PUBLISHED-TTL:PT1H
BEGIN:VTIMEZONE
TZID:America/Phoenix
BEGIN:STANDARD
TZOFFSETFROM:-0700
TZOFFSETTO:-0700
TZNAME:MST
DTSTART:20190101T000000
END:STANDARD
END:VTIMEZONE
BEGIN:VEVENT
DTSTART;VALUE=DATE:20200218
DTEND;VALUE=DATE:20200219
DTSTAMP:20260422T135610
CREATED:20190217T232531Z
LAST-MODIFIED:20200218T231210Z
UID:40526-1581984000-1582070399@summitschoolaz.org
SUMMARY:Professional Development Day - No School
DESCRIPTION:
URL:https://summitschoolaz.org/event/professional-development-day-no-school-57/
CATEGORIES:Activities
END:VEVENT
BEGIN:VEVENT
DTSTART;TZID=America/Phoenix:20200218T163000
DTEND;TZID=America/Phoenix:20200218T170000
DTSTAMP:20260422T135610
CREATED:20191212T212745Z
LAST-MODIFIED:20200218T004140Z
UID:45848-1582043400-1582045200@summitschoolaz.org
SUMMARY:Elementary Basketball Game
DESCRIPTION:vs EVAC (at Summit but officially EVAC is home team)
URL:https://summitschoolaz.org/event/elementary-basketball-game-9/
LOCATION:Summit School of Ahwatukee\, 4515 E Muirwood Dr\, Phoenix\, AZ 85048\, USA\, 2 E Muirwood Dr\, United States
CATEGORIES:Athletics
END:VEVENT
END:VCALENDAR