BEGIN:VCALENDAR
VERSION:2.0
PRODID:-//Summit School - ECPv6.15.20//NONSGML v1.0//EN
CALSCALE:GREGORIAN
METHOD:PUBLISH
X-ORIGINAL-URL:https://summitschoolaz.org
X-WR-CALDESC:Events for Summit School
REFRESH-INTERVAL;VALUE=DURATION:PT1H
X-Robots-Tag:noindex
X-PUBLISHED-TTL:PT1H
BEGIN:VTIMEZONE
TZID:America/Phoenix
BEGIN:STANDARD
TZOFFSETFROM:-0700
TZOFFSETTO:-0700
TZNAME:MST
DTSTART:20190101T000000
END:STANDARD
END:VTIMEZONE
BEGIN:VEVENT
DTSTART;TZID=America/Phoenix:20200205T083000
DTEND;TZID=America/Phoenix:20200205T121500
DTSTAMP:20260422T172115
CREATED:20200115T025544Z
LAST-MODIFIED:20200205T034040Z
UID:46118-1580891400-1580904900@summitschoolaz.org
SUMMARY:1st Grade Field Trip – South Mountain Environmental Education Center (lunch on field trip)
DESCRIPTION:
URL:https://summitschoolaz.org/event/1st-grade-field-trip-south-mountain-environmental-education-center-lunch-on-field-trip/
LOCATION:South Mountain Environmental Education Center\, 10409 S Central Ave\, Phoenix\, AZ 85042\, USA\, 5901 S Central Ave\, United States
CATEGORIES:Field Trips
END:VEVENT
BEGIN:VEVENT
DTSTART;TZID=America/Phoenix:20200205T090000
DTEND;TZID=America/Phoenix:20200205T131500
DTSTAMP:20260422T172115
CREATED:20200125T025617Z
LAST-MODIFIED:20200205T034040Z
UID:46230-1580893200-1580908500@summitschoolaz.org
SUMMARY:8th Grade Field Trip – Seton Catholic High School (lunch on field trip)
DESCRIPTION:After the play they will be stopping at Zeek’s Pizza for lunch
URL:https://summitschoolaz.org/event/8th-grade-field-trip-seton-catholic-high-school-lunch-on-field-trip/
LOCATION:Seton Catholic Preparatory\, 1150 N Dobson Rd\, Chandler\, AZ 85224\, USA\, 2 N Dobson Rd\, United States
CATEGORIES:Field Trips
END:VEVENT
BEGIN:VEVENT
DTSTART;TZID=America/Phoenix:20200205T090000
DTEND;TZID=America/Phoenix:20200205T131500
DTSTAMP:20260422T172115
CREATED:20200125T025618Z
LAST-MODIFIED:20200125T025618Z
UID:46231-1580893200-1580908500@summitschoolaz.org
SUMMARY:8th Grade Field Trip – Seton Catholic High School (lunch on field trip)
DESCRIPTION:After the play they will be stopping at Zeek’s Pizza for lunch
URL:https://summitschoolaz.org/event/8th-grade-field-trip-seton-catholic-high-school-lunch-on-field-trip-2/
LOCATION:Seton Catholic Preparatory\, 1150 N Dobson Rd\, Chandler\, AZ 85224\, USA\, 2 N Dobson Rd\, United States
CATEGORIES:Field Trips
END:VEVENT
END:VCALENDAR