BEGIN:VCALENDAR
VERSION:2.0
PRODID:-//Summit School - ECPv6.15.20//NONSGML v1.0//EN
CALSCALE:GREGORIAN
METHOD:PUBLISH
X-ORIGINAL-URL:https://summitschoolaz.org
X-WR-CALDESC:Events for Summit School
REFRESH-INTERVAL;VALUE=DURATION:PT1H
X-Robots-Tag:noindex
X-PUBLISHED-TTL:PT1H
BEGIN:VTIMEZONE
TZID:America/Phoenix
BEGIN:STANDARD
TZOFFSETFROM:-0700
TZOFFSETTO:-0700
TZNAME:MST
DTSTART:20190101T000000
END:STANDARD
END:VTIMEZONE
BEGIN:VEVENT
DTSTART;TZID=America/Phoenix:20200127T163000
DTEND;TZID=America/Phoenix:20200127T173000
DTSTAMP:20260422T154515
CREATED:20191203T210747Z
LAST-MODIFIED:20200128T231029Z
UID:45688-1580142600-1580146200@summitschoolaz.org
SUMMARY:JV Basketball Game
DESCRIPTION:@ Heritage Gateway #2
URL:https://summitschoolaz.org/event/jv-basketball-game-6/
LOCATION:Heritage Academy Gateway\, 19705 E Germann Rd\, Queen Creek\, AZ 85142\, USA\, 11300 E Germann Rd\, United States
CATEGORIES:Athletics
END:VEVENT
END:VCALENDAR