BEGIN:VCALENDAR
VERSION:2.0
PRODID:-//Summit School - ECPv6.15.20//NONSGML v1.0//EN
CALSCALE:GREGORIAN
METHOD:PUBLISH
X-ORIGINAL-URL:https://summitschoolaz.org
X-WR-CALDESC:Events for Summit School
REFRESH-INTERVAL;VALUE=DURATION:PT1H
X-Robots-Tag:noindex
X-PUBLISHED-TTL:PT1H
BEGIN:VTIMEZONE
TZID:America/Phoenix
BEGIN:STANDARD
TZOFFSETFROM:-0700
TZOFFSETTO:-0700
TZNAME:MST
DTSTART:20190101T000000
END:STANDARD
END:VTIMEZONE
BEGIN:VEVENT
DTSTART;TZID=America/Phoenix:20200125T170000
DTEND;TZID=America/Phoenix:20200125T190000
DTSTAMP:20260422T190200
CREATED:20190803T192353Z
LAST-MODIFIED:20200125T182529Z
UID:44175-1579971600-1579978800@summitschoolaz.org
SUMMARY:Summit PTO: Darling Daughter Dance
DESCRIPTION:
URL:https://summitschoolaz.org/event/summit-pto-darling-daughter-dance/
CATEGORIES:PTO
END:VEVENT
END:VCALENDAR