BEGIN:VCALENDAR
VERSION:2.0
PRODID:-//Summit School - ECPv6.15.20//NONSGML v1.0//EN
CALSCALE:GREGORIAN
METHOD:PUBLISH
X-ORIGINAL-URL:https://summitschoolaz.org
X-WR-CALDESC:Events for Summit School
REFRESH-INTERVAL;VALUE=DURATION:PT1H
X-Robots-Tag:noindex
X-PUBLISHED-TTL:PT1H
BEGIN:VTIMEZONE
TZID:America/Phoenix
BEGIN:STANDARD
TZOFFSETFROM:-0700
TZOFFSETTO:-0700
TZNAME:MST
DTSTART:20190101T000000
END:STANDARD
END:VTIMEZONE
BEGIN:VEVENT
DTSTART;TZID=America/Phoenix:20200124T081500
DTEND;TZID=America/Phoenix:20200124T093000
DTSTAMP:20260423T002024
CREATED:20191109T225312Z
LAST-MODIFIED:20200124T224528Z
UID:45370-1579853700-1579858200@summitschoolaz.org
SUMMARY:Middle School Coffee and Conversation
DESCRIPTION:
URL:https://summitschoolaz.org/event/middle-school-coffee-and-conversation-3/
LOCATION:Room 302
CATEGORIES:Activities
END:VEVENT
BEGIN:VEVENT
DTSTART;TZID=America/Phoenix:20200124T151500
DTEND;TZID=America/Phoenix:20200124T163000
DTSTAMP:20260423T002024
CREATED:20200123T225621Z
LAST-MODIFIED:20200123T225621Z
UID:46212-1579878900-1579883400@summitschoolaz.org
SUMMARY:Elementary Basketball Practice
DESCRIPTION:
URL:https://summitschoolaz.org/event/elementary-basketball-practice-2/
LOCATION:Summit School of Ahwatukee\, 4515 E Muirwood Dr\, Phoenix\, AZ 85048\, USA\, 2 E Muirwood Dr\, United States
CATEGORIES:Athletics
END:VEVENT
BEGIN:VEVENT
DTSTART;TZID=America/Phoenix:20200124T153000
DTEND;TZID=America/Phoenix:20200124T163000
DTSTAMP:20260423T002024
CREATED:20200123T225621Z
LAST-MODIFIED:20200124T231030Z
UID:46211-1579879800-1579883400@summitschoolaz.org
SUMMARY:Elementary Basketball Practice
DESCRIPTION:
URL:https://summitschoolaz.org/event/elementary-basketball-practice/
LOCATION:Summit School of Ahwatukee\, 4515 E Muirwood Dr\, Phoenix\, AZ 85048\, USA\, 2 E Muirwood Dr\, United States
CATEGORIES:Athletics
END:VEVENT
END:VCALENDAR