BEGIN:VCALENDAR
VERSION:2.0
PRODID:-//Summit School - ECPv6.15.20//NONSGML v1.0//EN
CALSCALE:GREGORIAN
METHOD:PUBLISH
X-ORIGINAL-URL:https://summitschoolaz.org
X-WR-CALDESC:Events for Summit School
REFRESH-INTERVAL;VALUE=DURATION:PT1H
X-Robots-Tag:noindex
X-PUBLISHED-TTL:PT1H
BEGIN:VTIMEZONE
TZID:America/Phoenix
BEGIN:STANDARD
TZOFFSETFROM:-0700
TZOFFSETTO:-0700
TZNAME:MST
DTSTART:20180101T000000
END:STANDARD
END:VTIMEZONE
BEGIN:VEVENT
DTSTART;TZID=America/Phoenix:20190927T090000
DTEND;TZID=America/Phoenix:20190927T120000
DTSTAMP:20260423T003441
CREATED:20190803T025917Z
LAST-MODIFIED:20190927T221028Z
UID:44091-1569574800-1569585600@summitschoolaz.org
SUMMARY:Middle School Community Service Event: Feed My Starving Children (lunch on campus)
DESCRIPTION:
URL:https://summitschoolaz.org/event/middle-school-community-service-event-feed-my-starving-children-lunch-on-campus/
LOCATION:Feed My Starving Children\, 1345 S Alma School Rd\, Mesa\, AZ 85210\, USA\, 2 S Alma School Rd\, United States
CATEGORIES:Field Trips
END:VEVENT
BEGIN:VEVENT
DTSTART;TZID=America/Phoenix:20190927T140000
DTEND;TZID=America/Phoenix:20190927T150000
DTSTAMP:20260423T003441
CREATED:20190816T200553Z
LAST-MODIFIED:20190927T211051Z
UID:44497-1569592800-1569596400@summitschoolaz.org
SUMMARY:notMYkid Student Presentation: Internet Safety (6th-8th)
DESCRIPTION:2019-2020 notMYkid student presentation dates. \nFriday\, September 27 2-3pm in the MPR: Internet Safety \nFriday\, November 15 2-3pm in the MPR: Bullying \nFriday\, February 7 2-3pm in the MPR: Substance Abuse \nFriday\, April 3 2-3pm in the MPR: Depression/Self-harm/Suicide
URL:https://summitschoolaz.org/event/notmykid-student-presentation-internet-safety-6th-8th/
LOCATION:MPR
CATEGORIES:Activities
END:VEVENT
END:VCALENDAR