BEGIN:VCALENDAR
VERSION:2.0
PRODID:-//Summit School - ECPv6.15.20//NONSGML v1.0//EN
CALSCALE:GREGORIAN
METHOD:PUBLISH
X-WR-CALNAME:Summit School
X-ORIGINAL-URL:https://summitschoolaz.org
X-WR-CALDESC:Events for Summit School
REFRESH-INTERVAL;VALUE=DURATION:PT1H
X-Robots-Tag:noindex
X-PUBLISHED-TTL:PT1H
BEGIN:VTIMEZONE
TZID:America/Phoenix
BEGIN:STANDARD
TZOFFSETFROM:-0700
TZOFFSETTO:-0700
TZNAME:MST
DTSTART:20180101T000000
END:STANDARD
END:VTIMEZONE
BEGIN:VEVENT
DTSTART;VALUE=DATE:20190923
DTEND;VALUE=DATE:20190927
DTSTAMP:20260420T122649
CREATED:20190830T202003Z
LAST-MODIFIED:20190926T211039Z
UID:44663-1569196800-1569542399@summitschoolaz.org
SUMMARY:Bring Your Parent to PE (during student’s scheduled PE class)
DESCRIPTION:
URL:https://summitschoolaz.org/event/take-your-parent-to-pe-during-your-students-scheduled-pe-class/
LOCATION:MPR
CATEGORIES:Activities
END:VEVENT
BEGIN:VEVENT
DTSTART;TZID=America/Phoenix:20190925T160000
DTEND;TZID=America/Phoenix:20190925T170000
DTSTAMP:20260420T122649
CREATED:20190913T211712Z
LAST-MODIFIED:20190926T181000Z
UID:44830-1569427200-1569430800@summitschoolaz.org
SUMMARY:Elementary Volleyball Game
DESCRIPTION:vs. Tri City Christian
URL:https://summitschoolaz.org/event/elementary-volleyball-game-3/
LOCATION:Spiral Volleyball\, 400 N 56th St\, Chandler\, AZ 85226\, USA\, 2 N 56th St\, United States
CATEGORIES:Athletics
END:VEVENT
BEGIN:VEVENT
DTSTART;TZID=America/Phoenix:20190925T163000
DTEND;TZID=America/Phoenix:20190925T173000
DTSTAMP:20260420T122649
CREATED:20190913T211713Z
LAST-MODIFIED:20190926T181000Z
UID:44831-1569429000-1569432600@summitschoolaz.org
SUMMARY:MS Volleyball Game
DESCRIPTION:vs. Basis Mesa
URL:https://summitschoolaz.org/event/ms-volleyball-game-2/
LOCATION:Spiral Volleyball\, 400 N 56th St\, Chandler\, AZ 85226\, USA\, 2 N 56th St\, United States
CATEGORIES:Athletics
END:VEVENT
BEGIN:VEVENT
DTSTART;TZID=America/Phoenix:20190925T173000
DTEND;TZID=America/Phoenix:20190925T184500
DTSTAMP:20260420T122649
CREATED:20190907T205301Z
LAST-MODIFIED:20190926T211039Z
UID:44735-1569432600-1569437100@summitschoolaz.org
SUMMARY:Kindergarten Brown Bag Supper and Family Game Night
DESCRIPTION:
URL:https://summitschoolaz.org/event/kindergarten-brown-bag-super-and-family-game-night/
CATEGORIES:Activities
END:VEVENT
END:VCALENDAR