BEGIN:VCALENDAR
VERSION:2.0
PRODID:-//Summit School - ECPv6.15.20//NONSGML v1.0//EN
CALSCALE:GREGORIAN
METHOD:PUBLISH
X-ORIGINAL-URL:https://summitschoolaz.org
X-WR-CALDESC:Events for Summit School
REFRESH-INTERVAL;VALUE=DURATION:PT1H
X-Robots-Tag:noindex
X-PUBLISHED-TTL:PT1H
BEGIN:VTIMEZONE
TZID:America/Phoenix
BEGIN:STANDARD
TZOFFSETFROM:-0700
TZOFFSETTO:-0700
TZNAME:MST
DTSTART:20180101T000000
END:STANDARD
END:VTIMEZONE
BEGIN:VEVENT
DTSTART;VALUE=DATE:20190403
DTEND;VALUE=DATE:20190404
DTSTAMP:20260424T030543
CREATED:20190110T211928Z
LAST-MODIFIED:20190403T194834Z
UID:40226-1554249600-1554335999@summitschoolaz.org
SUMMARY:Spring Book Fair
DESCRIPTION:
URL:https://summitschoolaz.org/event/spring-book-fair-2/
CATEGORIES:PTO
END:VEVENT
BEGIN:VEVENT
DTSTART;TZID=America/Phoenix:20190403T081500
DTEND;TZID=America/Phoenix:20190403T110000
DTSTAMP:20260424T030543
CREATED:20190228T234818Z
LAST-MODIFIED:20190402T165715Z
UID:40666-1554279300-1554289200@summitschoolaz.org
SUMMARY:3rd Grade Field Trip – Arizona Humane Society Campus for Compassion
DESCRIPTION:
URL:https://summitschoolaz.org/event/3rd-grade-field-trip-arizona-humane-society-campus-for-compassion/
LOCATION:Arizona Humane Society Campus for Compassion\, 1521 W Dobbins Rd\, Phoenix\, AZ 85041\, USA\, 2 W Dobbins Rd\, United States
CATEGORIES:Field Trips
END:VEVENT
BEGIN:VEVENT
DTSTART;TZID=America/Phoenix:20190403T105400
DTEND;TZID=America/Phoenix:20190403T122700
DTSTAMP:20260424T030543
CREATED:20181116T220508Z
LAST-MODIFIED:20190403T195018Z
UID:38422-1554288840-1554294420@summitschoolaz.org
SUMMARY:AIMS Science Testing - 8th Grade
DESCRIPTION:8th Graders: Wed.\, April 3rd\, Periods 4 and 5 in France’s Rm. 302 and Menard’s Rm. 317\n4th Graders: Wed\, April 17th\, Periods 4 and 5 in homerooms 4A and 4B.\nAny needed make ups will occur the following day\, Thursday\, for both. Time to be determined.
URL:https://summitschoolaz.org/event/aims-science-testing-8th-grade/
LOCATION:Room 302 and Room 317
CATEGORIES:Activities
END:VEVENT
BEGIN:VEVENT
DTSTART;TZID=America/Phoenix:20190403T113000
DTEND;TZID=America/Phoenix:20190403T123000
DTSTAMP:20260424T030543
CREATED:20190228T235025Z
LAST-MODIFIED:20190403T194834Z
UID:40669-1554291000-1554294600@summitschoolaz.org
SUMMARY:Picnic with Pals: Preschool
DESCRIPTION:Monday\, April 1\nKindergarten & 1st Grade: 11:42-12:27 \nTuesday\, April 2\n2nd & 3rd Grade: 11:42-12:27 \nWednesday\, April 3\nPreschool: 11:30-12:30\n4th & 5th Grade: 12:30-1:15 \nThursday\, April 4\n6th\, 7th & 8th Grade: 12:30-1:15 \nFriday\, April 5\nOpen Pick with Pals: 11:42-1:15 (for any family that could not make it earlier in the week)
URL:https://summitschoolaz.org/event/picnic-with-pals-preschool/
LOCATION:Preschool Playground
CATEGORIES:PTO
END:VEVENT
BEGIN:VEVENT
DTSTART;TZID=America/Phoenix:20190403T123000
DTEND;TZID=America/Phoenix:20190403T131500
DTSTAMP:20260424T030543
CREATED:20190228T235049Z
LAST-MODIFIED:20190403T194834Z
UID:40670-1554294600-1554297300@summitschoolaz.org
SUMMARY:Picnic with Pals: 4th & 5th Grade
DESCRIPTION:Monday\, April 1\nKindergarten & 1st Grade: 11:42-12:27 \nTuesday\, April 2\n2nd & 3rd Grade: 11:42-12:27 \nWednesday\, April 3\nPreschool: 11:30-12:30\n4th & 5th Grade: 12:30-1:15 \nThursday\, April 4\n6th\, 7th & 8th Grade: 12:30-1:15 \nFriday\, April 5\nOpen Pick with Pals: 11:42-1:15 (for any family that could not make it earlier in the week)
URL:https://summitschoolaz.org/event/picnic-with-pals-4th-5th-grade/
LOCATION:Inner Courtyard
CATEGORIES:PTO
END:VEVENT
BEGIN:VEVENT
DTSTART;TZID=America/Phoenix:20190403T140000
DTEND;TZID=America/Phoenix:20190403T150000
DTSTAMP:20260424T030543
CREATED:20190222T233848Z
LAST-MODIFIED:20190402T165715Z
UID:40577-1554300000-1554303600@summitschoolaz.org
SUMMARY:1st Grade – Phoenix Zoo: Animal Kingdom Classroom Visit
DESCRIPTION:
URL:https://summitschoolaz.org/event/1st-grade-phoenix-zoo-animal-kingdom-classroom-visit/
LOCATION:Summit School – First Grade Classroom
CATEGORIES:Field Trips
END:VEVENT
END:VCALENDAR