BEGIN:VCALENDAR
VERSION:2.0
PRODID:-//Summit School - ECPv6.15.20//NONSGML v1.0//EN
CALSCALE:GREGORIAN
METHOD:PUBLISH
X-ORIGINAL-URL:https://summitschoolaz.org
X-WR-CALDESC:Events for Summit School
REFRESH-INTERVAL;VALUE=DURATION:PT1H
X-Robots-Tag:noindex
X-PUBLISHED-TTL:PT1H
BEGIN:VTIMEZONE
TZID:America/Phoenix
BEGIN:STANDARD
TZOFFSETFROM:-0700
TZOFFSETTO:-0700
TZNAME:MST
DTSTART:20180101T000000
END:STANDARD
END:VTIMEZONE
BEGIN:VEVENT
DTSTART;VALUE=DATE:20190402
DTEND;VALUE=DATE:20190403
DTSTAMP:20260424T051838
CREATED:20190110T211928Z
LAST-MODIFIED:20190402T171211Z
UID:40225-1554163200-1554249599@summitschoolaz.org
SUMMARY:Spring Book Fair
DESCRIPTION:
URL:https://summitschoolaz.org/event/spring-book-fair/
CATEGORIES:PTO
END:VEVENT
BEGIN:VEVENT
DTSTART;TZID=America/Phoenix:20190402T074500
DTEND;TZID=America/Phoenix:20190402T081500
DTSTAMP:20260424T051838
CREATED:20190228T235024Z
LAST-MODIFIED:20190402T171211Z
UID:40667-1554191100-1554192900@summitschoolaz.org
SUMMARY:Donuts at Dropoff
DESCRIPTION:
URL:https://summitschoolaz.org/event/donuts-at-dropoff-2/
LOCATION:Walkway Outside of KC
CATEGORIES:PTO
END:VEVENT
BEGIN:VEVENT
DTSTART;TZID=America/Phoenix:20190402T083000
DTEND;TZID=America/Phoenix:20190402T103000
DTSTAMP:20260424T051838
CREATED:20180724T015823Z
LAST-MODIFIED:20190401T204117Z
UID:26108-1554193800-1554201000@summitschoolaz.org
SUMMARY:8th Grade Cap and Gown Photo Day
DESCRIPTION:
URL:https://summitschoolaz.org/event/8th-grade-cap-and-gown-photo-day/
LOCATION:Preschool Lobby
CATEGORIES:Activities
END:VEVENT
BEGIN:VEVENT
DTSTART;TZID=America/Phoenix:20190402T114200
DTEND;TZID=America/Phoenix:20190402T122700
DTSTAMP:20260424T051838
CREATED:20190228T235024Z
LAST-MODIFIED:20190402T171211Z
UID:40668-1554205320-1554208020@summitschoolaz.org
SUMMARY:Picnic with Pals: 2nd & 3rd Grade
DESCRIPTION:Monday\, April 1\nKindergarten & 1st Grade: 11:42-12:27 \nTuesday\, April 2\n2nd & 3rd Grade: 11:42-12:27 \nWednesday\, April 3\nPreschool: 11:30-12:30\n4th & 5th Grade: 12:30-1:15 \nThursday\, April 4\n6th\, 7th & 8th Grade: 12:30-1:15 \nFriday\, April 5\nOpen Pick with Pals: 11:42-1:15 (for any family that could not make it earlier in the week)
URL:https://summitschoolaz.org/event/picnic-with-pals-2nd-3rd-grade/
LOCATION:Inner Courtyard
CATEGORIES:PTO
END:VEVENT
END:VCALENDAR